BEGIN:VCALENDAR
VERSION:2.0
PRODID:-//ChamberMaster//Event Calendar 2.0//EN
METHOD:PUBLISH
X-PUBLISHED-TTL:P3D
REFRESH-INTERVAL:P3D
CALSCALE:GREGORIAN
BEGIN:VEVENT
DTSTART:20221207T190000Z
DTEND:20221207T220000Z
X-MICROSOFT-CDO-ALLDAYEVENT:FALSE
SUMMARY:ADRC Resource Center
DESCRIPTION:The Aging and Disability Resource Center helps to connect you to resources.  Please stop in from 1-4 to speak with an Information & Assistance Specialist.  We hope to see you!
X-ALT-DESC;FMTTYPE=text/html:The Aging and Disability Resource Center helps to connect you to resources.&nbsp\; Please stop in from 1-4 to speak with an Information &amp\; Assistance Specialist.&nbsp\; We hope to see you!
LOCATION:The Good Neighbor Clinic 95 Lincoln Ave Prairie du Sac
UID:e.1184.28325
SEQUENCE:3
DTSTAMP:20260421T003910Z
URL:http://members.saukprairie.com/events/details/adrc-resource-center-28325
END:VEVENT

END:VCALENDAR
