BEGIN:VCALENDAR
VERSION:2.0
PRODID:-//ChamberMaster//Event Calendar 2.0//EN
METHOD:PUBLISH
X-PUBLISHED-TTL:P3D
REFRESH-INTERVAL:P3D
CALSCALE:GREGORIAN
BEGIN:VEVENT
DTSTART:20200219T000000Z
DTEND:20200219T014500Z
X-MICROSOFT-CDO-ALLDAYEVENT:FALSE
SUMMARY:Adult & Child Art Night: Painted Pots
DESCRIPTION:Join us at the Ruth Culver Community Library for our third annual adult and child art night Tuesday\, February 18 at 6:00 p.m.  You'll get to paint your own 3-inch clay pot!  Pots and paint will be provided. Plants and soil not included. This event is open to children age 8 and older to attend with an adult.  Space is limited\; registration is required.  Contact Meagan at 643-8318 with questions.
X-ALT-DESC;FMTTYPE=text/html:Join us at the Ruth Culver Community Library for our third annual adult and child art night Tuesday\, February 18 at 6:00 p.m.&nbsp\; You&#39\;ll get to paint your own 3-inch clay pot!&nbsp\; Pots and paint will be provided. Plants and soil not included. This event is open to children age 8 and older to attend with an adult.&nbsp\; <strong>Space is limited\; registration is required</strong>.&nbsp\; Contact Meagan at 643-8318 with questions.
LOCATION:Ruth Culver Community Library 540 Water Street\, Prairie du Sac
UID:e.1184.24001
SEQUENCE:3
DTSTAMP:20260423T041524Z
URL:http://members.saukprairie.com/events/details/adult-child-art-night-painted-pots-24001
END:VEVENT

END:VCALENDAR
