BEGIN:VCALENDAR
VERSION:2.0
PRODID:-//ChamberMaster//Event Calendar 2.0//EN
METHOD:PUBLISH
X-PUBLISHED-TTL:P3D
REFRESH-INTERVAL:P3D
CALSCALE:GREGORIAN
BEGIN:VEVENT
DTSTART:20180813T233000Z
DTEND:20180814T003000Z
X-MICROSOFT-CDO-ALLDAYEVENT:FALSE
SUMMARY:Adult Craft Night: Coasters
DESCRIPTION:Tired of water rings on your furniture? Offer your guests and family a DIY coaster you made at our craft night instead!\n\nWe will have three different stations to choose from. Pick one or try them all!\n\nPlease remember to call ahead to sign up for the event at 608-643-8346.
X-ALT-DESC;FMTTYPE=text/html:<p>Tired of water rings on your furniture? Offer your guests and family a DIY coaster you made at our craft night instead!</p>\n\n<p>We will have three different stations to choose from. Pick one or try them all!</p>\n\n<p>Please remember to call ahead to sign up for the event at 608-643-8346.</p>\n
LOCATION:515 Water St Sauk City\, WI 53583
UID:e.1184.20497
SEQUENCE:3
DTSTAMP:20260424T065307Z
URL:http://members.saukprairie.com/events/details/adult-craft-night-coasters-20497
END:VEVENT

END:VCALENDAR
