BEGIN:VCALENDAR
VERSION:2.0
PRODID:-//ChamberMaster//Event Calendar 2.0//EN
METHOD:PUBLISH
X-PUBLISHED-TTL:P3D
REFRESH-INTERVAL:P3D
CALSCALE:GREGORIAN
BEGIN:VEVENT
DTSTART:20181023T223000Z
DTEND:20181024T003000Z
X-MICROSOFT-CDO-ALLDAYEVENT:FALSE
SUMMARY:Adult Craft Night: Holiday Cards
DESCRIPTION:Jamie Statz-Paynter will bring her card-making expertise to the library. Come and learn how to create four magical holiday cards. Materials and supplies are provided. Space is limited so call or sign up at the library today.
X-ALT-DESC;FMTTYPE=text/html:<span style="background-color:rgb(255\, 255\, 255)\; font-family:arial\; font-size:11.5pt">Jamie Statz-Paynter will bring her card-making expertise to the library. Come and learn how to create four magical holiday cards. Materials and supplies are provided. Space is limited so call or sign up at the library today.</span>
LOCATION:
UID:e.1184.21333
SEQUENCE:3
DTSTAMP:20260424T034235Z
URL:http://members.saukprairie.com/events/details/adult-craft-night-holiday-cards-21333
END:VEVENT

END:VCALENDAR
