BEGIN:VCALENDAR
VERSION:2.0
PRODID:-//ChamberMaster//Event Calendar 2.0//EN
METHOD:PUBLISH
X-PUBLISHED-TTL:P3D
REFRESH-INTERVAL:P3D
CALSCALE:GREGORIAN
BEGIN:VEVENT
DTSTART:20190207T000000Z
DTEND:20190207T010000Z
X-MICROSOFT-CDO-ALLDAYEVENT:FALSE
SUMMARY:Adult Craft Night: Love is in the Air Holiday Cards
DESCRIPTION:Valentine's Day is coming! Join us in making your own custom card for a friend or loved-one. Jamie Statz-Paynter will be back with us to provide all the materials and instruction you'll need to leave with 2 professional-quality cards. Call or stop by the library to sign up. Class space is limited so sign up early.\n\n\n\nClas rescheduled for Wednesday\, February 6 at 6:00pm due to the weather.
X-ALT-DESC;FMTTYPE=text/html:<span style="font-family:arial\; font-size:11pt">Valentine&#39\;s Day is coming! Join us in making your own custom card for a friend or loved-one. Jamie Statz-Paynter will be back with us to provide all the materials and instruction you&#39\;ll need to leave with 2 professional-quality cards. Call or stop by the library to sign up. Class space is limited so sign up early.<br />\n<br />\nClas rescheduled for Wednesday\, February 6 at 6:00pm due to the weather.</span>
LOCATION:515 Water St Sauk City\, WI 53583
UID:e.1184.21612
SEQUENCE:3
DTSTAMP:20260423T213515Z
URL:http://members.saukprairie.com/events/details/adult-craft-night-love-is-in-the-air-holiday-cards-21612
END:VEVENT

END:VCALENDAR
