BEGIN:VCALENDAR
VERSION:2.0
PRODID:-//ChamberMaster//Event Calendar 2.0//EN
METHOD:PUBLISH
X-PUBLISHED-TTL:P3D
REFRESH-INTERVAL:P3D
CALSCALE:GREGORIAN
BEGIN:VEVENT
DTSTART:20210413T233000Z
DTEND:20210414T003000Z
X-MICROSOFT-CDO-ALLDAYEVENT:FALSE
SUMMARY:Adult Craft Night: Spring Cards
DESCRIPTION:Join us for a zoom program with Jamie Statz-Paynter to make 4 delightful greeting cards. All materials included. Space is limited\, so contact the library at 608-643-8346 or info@saukcitylibrary.org to sign up.
X-ALT-DESC;FMTTYPE=text/html:<span style="background-color:rgb(255\, 255\, 255)\; font-family:arial\; font-size:11pt">Join us for a zoom program with Jamie Statz-Paynter to make 4 delightful greeting cards. All materials included. Space is limited\, so contact the library at 608-643-8346 or info@saukcitylibrary.org to sign up.&nbsp\; </span>
LOCATION:
UID:e.1184.26539
SEQUENCE:3
DTSTAMP:20260422T075538Z
URL:http://members.saukprairie.com/events/details/adult-craft-night-spring-cards-26539
END:VEVENT

END:VCALENDAR
