BEGIN:VCALENDAR
VERSION:2.0
PRODID:-//ChamberMaster//Event Calendar 2.0//EN
METHOD:PUBLISH
X-PUBLISHED-TTL:P3D
REFRESH-INTERVAL:P3D
CALSCALE:GREGORIAN
BEGIN:VEVENT
DTSTART:20200123T000000Z
DTEND:20200123T013000Z
X-MICROSOFT-CDO-ALLDAYEVENT:FALSE
SUMMARY:Adult Craft Workshop: Altered Tins
DESCRIPTION:Come to the library for a mid-winter craft workshop and transform an old Altoids tin into something new! Please register in advance at the library.
X-ALT-DESC;FMTTYPE=text/html:Come to the library for a mid-winter craft workshop and transform an old Altoids tin into something new! Please register in advance at the library.
LOCATION:515 Water Street Sauk City\, WI 53583
UID:e.1184.23944
SEQUENCE:3
DTSTAMP:20260423T053911Z
URL:http://members.saukprairie.com/events/details/adult-craft-workshop-altered-tins-23944
END:VEVENT

END:VCALENDAR
