BEGIN:VCALENDAR
VERSION:2.0
PRODID:-//ChamberMaster//Event Calendar 2.0//EN
METHOD:PUBLISH
X-PUBLISHED-TTL:P3D
REFRESH-INTERVAL:P3D
CALSCALE:GREGORIAN
BEGIN:VEVENT
DTSTART:20241017T223000Z
DTEND:20241018T000000Z
X-MICROSOFT-CDO-ALLDAYEVENT:FALSE
SUMMARY:After Hours Re Make @ ReTwist-t
DESCRIPTION:After Hours ReMake @ ReTwist-t\n\nOctober 17th from 5:30p-7p\n\n\n\nWe'll use crafty\, re-purposed and found items to create 3 tapered sizes of wooden pumpkins...add in more amazing fall friendly notions to create a piece that's perfect for your seasonal decoration!\n\n\n\nArrive early for Drinks\, Snacks and Laughs!\n\n\n\nRSVP @ retwist-t.com
X-ALT-DESC;FMTTYPE=text/html:After Hours ReMake @ ReTwist-t<br />\nOctober 17th from 5:30p-7p<br />\n<br />\nWe&#39\;ll use crafty\, re-purposed and found items to create 3 tapered sizes of wooden pumpkins...add in more amazing fall friendly notions to create a piece that&#39\;s perfect for your seasonal decoration!<br />\n<br />\nArrive early for Drinks\, Snacks and Laughs!<br />\n<br />\nRSVP @ retwist-t.com
LOCATION:515 Water Street Sauk City
UID:e.1184.33479
SEQUENCE:3
DTSTAMP:20260419T143909Z
URL:http://members.saukprairie.com/events/details/after-hours-re-make-retwist-t-33479
END:VEVENT

END:VCALENDAR
