BEGIN:VCALENDAR
VERSION:2.0
PRODID:-//ChamberMaster//Event Calendar 2.0//EN
METHOD:PUBLISH
X-PUBLISHED-TTL:P3D
REFRESH-INTERVAL:P3D
CALSCALE:GREGORIAN
BEGIN:VEVENT
DTSTART:20230406T203000Z
DTEND:20230406T220000Z
X-MICROSOFT-CDO-ALLDAYEVENT:FALSE
SUMMARY:After School Art Club: Spring 2023
DESCRIPTION:After School Art Club is back! Each week students will study a different artist or art movement\, then make a project based on their discoveries. Students can share their creations with classmates at the end of each session! All supplies are included each week\, no prior experience necessary.\n\nClass sessions: All take place from 3:30-5pm\n\n\n	Thursday\, April 6\n	Thursday\, April 13\n	NO CLASS on April 20\n	Thursday\, April 27\n	Thursday\, May 4\n	Thursday\, May 11\n	Thursday\, May 18\n\nhttps://www.riverartsinc.org/asac-spring23/
X-ALT-DESC;FMTTYPE=text/html:<p>After School Art Club is back! Each week students will study a different artist or art movement\, then make a project based on their discoveries. Students can share their creations with classmates at the end of each session! All supplies are included each week\, no prior experience necessary.</p>\n\n<p><strong>Class sessions</strong>:&nbsp\;<strong>All take place from</strong>&nbsp\;<strong>3:30-5pm</strong></p>\n\n<ul>\n	<li>Thursday\, April 6</li>\n	<li>Thursday\, April 13</li>\n	<li>NO CLASS on April 20</li>\n	<li>Thursday\, April 27</li>\n	<li>Thursday\, May 4</li>\n	<li><span style="font-family:-apple-system\,blinkmacsystemfont\,segoe ui\,roboto\,oxygen-sans\,ubuntu\,cantarell\,helvetica neue\,sans-serif">Thursday\, May 1</span>1</li>\n	<li>Thursday\, May 18</li>\n</ul>\nhttps://www.riverartsinc.org/asac-spring23/
LOCATION:590 Water St\, Prairie Du Sac\, WI 53578
UID:e.1184.28183
SEQUENCE:3
DTSTAMP:20260420T144742Z
URL:http://members.saukprairie.com/events/details/after-school-art-club-spring-2023-28183
END:VEVENT

END:VCALENDAR
