BEGIN:VCALENDAR
VERSION:2.0
PRODID:-//ChamberMaster//Event Calendar 2.0//EN
METHOD:PUBLISH
X-PUBLISHED-TTL:P3D
REFRESH-INTERVAL:P3D
CALSCALE:GREGORIAN
BEGIN:VEVENT
DTSTART:20181211T223000Z
DTEND:20181212T020000Z
X-MICROSOFT-CDO-ALLDAYEVENT:FALSE
SUMMARY:AGRACE'S COMMUNITY IMPACT NIGHT at Baraboo Pizza Ranch
DESCRIPTION:Dine at Pizza Ranch of BARABOO on \n\nTuesday\, December 11th between 4:30-8:00 p.m. in support of Agrace! \n\nAgrace staff and volunteers will be on hand as guest servers! \n\nA percentage of sales will be donated to Agrace.\n\nProceeds from the evening will help ensure that every local patient has access to Agrace's compassionate end-of-life care\, \n\nregardless of their ability to pay.\n \n\n \n\n.
X-ALT-DESC;FMTTYPE=text/html:<div style="text-align: center\;"><span style="font-size:24px"><strong><span style="font-family:calibri">Dine at </span></strong><em><span style="font-family:calibri"><span style="color:rgb(204\, 0\, 0)">Pizza Ranch of BARABOO </span></span></em><strong><span style="font-family:calibri">on </span></strong><br />\n<strong><span style="font-family:calibri">Tuesday\, December 11th between 4:30-8:00 p.m. in support of Agrace! </span></strong><br />\n<strong><span style="font-family:calibri">Agrace staff and volunteers will be on hand as guest servers! </span></strong><br />\n<strong><span style="font-family:calibri">A percentage of sales will be donated to Agrace.</span></strong><br />\n<em><span style="font-family:calibri"><span style="color:rgb(204\, 0\, 0)">Proceeds from the evening will help ensure that every local patient has </span></span></em><em><span style="font-family:calibri"><span style="color:rgb(204\, 0\, 0)">access to Agrace&rsquo\;s compassionate end-of-life care\, </span></span></em><br />\n<em><span style="font-family:calibri"><span style="color:rgb(204\, 0\, 0)">regardless of their ability to pay.</span></span></em></span></div>\n&nbsp\;<br />\n&nbsp\;<br />\n<span style="font-size:9.399pt"><span style="font-family:calibri"><span style="color:rgb(96\, 92\, 62)">.</span></span></span><br />\n&nbsp\;<br />\n&nbsp\;
LOCATION:Pizza Ranch 916 Gateway Drive\, Baraboo
UID:e.1184.21504
SEQUENCE:3
DTSTAMP:20260424T004307Z
URL:http://members.saukprairie.com/events/details/agrace-s-community-impact-night-at-baraboo-pizza-ranch-21504
END:VEVENT

END:VCALENDAR
