BEGIN:VCALENDAR
VERSION:2.0
PRODID:-//ChamberMaster//Event Calendar 2.0//EN
METHOD:PUBLISH
X-PUBLISHED-TTL:P3D
REFRESH-INTERVAL:P3D
CALSCALE:GREGORIAN
BEGIN:VEVENT
DTSTART:20161117T000000Z
DTEND:20161117T020000Z
X-MICROSOFT-CDO-ALLDAYEVENT:FALSE
SUMMARY:Agriscience Open House
DESCRIPTION:Please join us for the Agriscience Open House\n\n\n\nNovember 16\, from 6-8pm\n\n\n\nSauk Prairie High School\n\n105 Ninth Street\n\nPrairie du Sac\, WI 53578\n\n\n\nTours along with hors d'oeuvres and beverages
X-ALT-DESC;FMTTYPE=text/html:Please join us for the Agriscience Open House<br />\n<br />\nNovember 16\, from 6-8pm<br />\n<br />\nSauk Prairie High School<br />\n105 Ninth Street<br />\nPrairie du Sac\, WI 53578<br />\n<br />\nTours along with hors d&#39\;oeuvres and beverages
LOCATION:
UID:e.1184.9455
SEQUENCE:3
DTSTAMP:20260425T160007Z
URL:http://members.saukprairie.com/events/details/agriscience-open-house-9455
END:VEVENT

END:VCALENDAR
