BEGIN:VCALENDAR
VERSION:2.0
PRODID:-//ChamberMaster//Event Calendar 2.0//EN
METHOD:PUBLISH
X-PUBLISHED-TTL:P3D
REFRESH-INTERVAL:P3D
CALSCALE:GREGORIAN
BEGIN:VEVENT
DTSTART;VALUE=DATE:20190817
DTEND;VALUE=DATE:20190818
TRANSP:TRANSPARENT
X-MICROSOFT-CDO-ALLDAYEVENT:TRUE
SUMMARY:AJN Memorial Bag Tournament
DESCRIPTION:Come and join us in celebrating Adam's life with a bag toss tournament. If you knew Adam come with old memories\, let people that may not have see him through your eyes! $20 for two person teams\, 50/50 split for prize fund and memorial. 1pm registration with a 2pm toss time. The Novak family hopes to see old and new faces!!
X-ALT-DESC;FMTTYPE=text/html:<span style="color: rgb(29\, 33\, 41)\; font-family: Helvetica\, Arial\, sans-serif\; font-size: 14px\; white-space: pre-wrap\;">Come and join us in celebrating Adam&rsquo\;s life with a bag toss tournament. If you knew Adam come with old memories\, let people that may not have see him through your eyes! $20 for two person teams\, 50/50 split for prize fund and memorial. 1pm registration with a 2pm toss time. The Novak family hopes to see old and new faces!!</span>
LOCATION:Riviera Bowl 51 Polk St.\, Sauk City
UID:e.1184.22705
SEQUENCE:3
DTSTAMP:20260423T124851Z
URL:http://members.saukprairie.com/events/details/ajn-memorial-bag-tournament-22705
END:VEVENT

END:VCALENDAR
