BEGIN:VCALENDAR
VERSION:2.0
PRODID:-//ChamberMaster//Event Calendar 2.0//EN
METHOD:PUBLISH
X-PUBLISHED-TTL:P3D
REFRESH-INTERVAL:P3D
CALSCALE:GREGORIAN
BEGIN:VEVENT
DTSTART:20160421T233000Z
DTEND:20160422T003000Z
X-MICROSOFT-CDO-ALLDAYEVENT:FALSE
SUMMARY:Aldo Leopold and Wisconsin?s Conservation Tradition
DESCRIPTION:Curt Meine will talk about his background as a student of Aldo Leopold?s life\, work\, and writing\, and what lessons Leopold?s legacy holds for Wisconsin today. Thank you to the Friends of the Ruth Culver Community Library for sponsoring this event.
X-ALT-DESC;FMTTYPE=text/html:Curt Meine will talk about his background as a student of Aldo Leopold?s life\, work\, and writing\, and what lessons Leopold?s legacy holds for Wisconsin today. Thank you to the Friends of the Ruth Culver Community Library for sponsoring this event.
LOCATION:Ruth Culver Community Library 540 Water St.\, Prairie du Sac
UID:e.1184.6870
SEQUENCE:3
DTSTAMP:20260426T033451Z
URL:http://members.saukprairie.com/events/details/aldo-leopold-and-wisconsin-s-conservation-tradition-04-21-2016-6870
END:VEVENT

END:VCALENDAR
