BEGIN:VCALENDAR
VERSION:2.0
PRODID:-//ChamberMaster//Event Calendar 2.0//EN
METHOD:PUBLISH
X-PUBLISHED-TTL:P3D
REFRESH-INTERVAL:P3D
CALSCALE:GREGORIAN
BEGIN:VEVENT
DTSTART:20190918T193000Z
DTEND:20190918T203000Z
X-MICROSOFT-CDO-ALLDAYEVENT:FALSE
SUMMARY:All About Horses
DESCRIPTION:Early Release Wednesday events return to the Ruth Culver Community Library September 18 at 2:30 p.m.  This month is all about horses with LIVE pony Lexy! She and her owner Robin will visit the library. Learn what it's like to own and take care of a pony. We'll have a "meet and greet" with Lexy too!\nDo you like Breyer horses? Check out Martha's display in the lobby case. She'll giving away most of them to kids at this first Early Release Wednesday program! (We'll have a drawing for the horses if we don't have one per each child attending.) Contact Beth at 643-8318 with questions.
X-ALT-DESC;FMTTYPE=text/html:Early Release Wednesday events return to the Ruth Culver Community Library September 18 at 2:30 p.m.&nbsp\; This month is all about horses with LIVE pony Lexy! She and her owner Robin will visit the library. Learn what it&#39\;s like to own and take care of a pony. We&#39\;ll have a &quot\;meet and greet&quot\; with Lexy too!\n<p>Do you like Breyer horses? Check out Martha&#39\;s display in the lobby case. She&#39\;ll giving away most of them to kids at this first Early Release Wednesday program! (We&#39\;ll have a drawing for the horses if we don&#39\;t have one per each child attending.) Contact Beth at 643-8318 with questions.</p>\n
LOCATION:Ruth Culver Community Library 540 Water Street\, Prairie du Sac
UID:e.1184.23138
SEQUENCE:3
DTSTAMP:20260423T113135Z
URL:http://members.saukprairie.com/events/details/all-about-horses-23138
END:VEVENT

END:VCALENDAR
