BEGIN:VCALENDAR
VERSION:2.0
PRODID:-//ChamberMaster//Event Calendar 2.0//EN
METHOD:PUBLISH
X-PUBLISHED-TTL:P3D
REFRESH-INTERVAL:P3D
CALSCALE:GREGORIAN
BEGIN:VEVENT
DTSTART:20190223T190000Z
DTEND:20190223T200000Z
X-MICROSOFT-CDO-ALLDAYEVENT:FALSE
SUMMARY:All American Girl Party
DESCRIPTION:Celebrate the new circulating American Girl dolls at the Ruth Culver Community Library with activities\, snacks\, crafts and prizes Saturday\, February 23 at 1:00 p.m.  All kids and dolls are welcome. Space is limited\; registration is required. Contact Beth at 643-8318 with questions.
X-ALT-DESC;FMTTYPE=text/html:Celebrate the new circulating American Girl dolls at the Ruth Culver Community Library with activities\, snacks\, crafts and prizes Saturday\, February 23 at 1:00 p.m.&nbsp\; All kids and dolls are welcome. <strong>Space is limited\; registration is required.</strong> Contact Beth at 643-8318 with questions.
LOCATION:Ruth Culver Community Library 540 Water Street\, Prairie du Sac
UID:e.1184.21689
SEQUENCE:3
DTSTAMP:20260423T213441Z
URL:http://members.saukprairie.com/events/details/all-american-girl-party-21689
END:VEVENT

END:VCALENDAR
