BEGIN:VCALENDAR
VERSION:2.0
PRODID:-//ChamberMaster//Event Calendar 2.0//EN
METHOD:PUBLISH
X-PUBLISHED-TTL:P3D
REFRESH-INTERVAL:P3D
CALSCALE:GREGORIAN
BEGIN:VEVENT
DTSTART:20190428T010000Z
DTEND:20190428T045500Z
X-MICROSOFT-CDO-ALLDAYEVENT:FALSE
SUMMARY:All That Glitters - Adult Prom!
DESCRIPTION:All That Glitters Adult Prom 2019 is a fundraiser hosted by Sauk Prairie Dollars for Scholars. Experience your Prom for the first time or do it all over again! Ask a date or come with friends! Get a special Prom photo to save the memories. Prom King and Queen will be determined at the event and will be decided in a whole new way! Featuring special guest musicians the Water Street Jacks\, this will be a night to remember! Proceeds from this fundraiser will support the mission of Sauk Prairie Dollars for Scholars.\n\n\n\nGet your tickets here!
X-ALT-DESC;FMTTYPE=text/html:<span style="color: rgb(94\, 96\, 102)\; font-family: Arial\, Helvetica\, sans-serif\;">All That Glitters Adult Prom 2019 is a fundraiser hosted by Sauk Prairie Dollars for Scholars. Experience your Prom for the first time or do it all over again! Ask a date or come with friends! Get a special Prom photo to save the memories. Prom King and Queen will be determined at the event and will be decided in a whole new way! Featuring special guest musicians the Water Street Jacks\, this will be a night to remember! Proceeds from this fundraiser will support the mission of Sauk Prairie Dollars for Scholars.</span><br />\n<br />\n<a href="https://app.arts-people.com/index.php?show=96805&amp\;fbclid=IwAR0A3ziSoXAVy74d6YuD3du1vcUSi0IaTCgHWV_7u2mOIaNF4S2GPFBpfO0">Get your tickets here!</a>
LOCATION:
UID:e.1184.22094
SEQUENCE:3
DTSTAMP:20260423T201841Z
URL:http://members.saukprairie.com/events/details/all-that-glitters-adult-prom-22094
END:VEVENT

END:VCALENDAR
