BEGIN:VCALENDAR
VERSION:2.0
PRODID:-//ChamberMaster//Event Calendar 2.0//EN
METHOD:PUBLISH
X-PUBLISHED-TTL:P3D
REFRESH-INTERVAL:P3D
CALSCALE:GREGORIAN
BEGIN:VEVENT
DTSTART:20171007T003000Z
DTEND:20171007T020000Z
X-MICROSOFT-CDO-ALLDAYEVENT:FALSE
SUMMARY:ALOFT
DESCRIPTION:Magnum Opus\, Madison's newest dance company\, will be staging its premiere performance titled ALOFT\, at the River Arts Center. The company will be taking flight for the first time at this dynamic arts center with both classical and contemporary works. You'll also get to hear a live ensemble of local musicians! It's not often you get the chance to see a first performance like ALOFT\, with six professional dancers who've moved to the Madison area from around the country to start something fresh and exciting. Great for adults   and for any younger ballet students who want the chance to see thrilling dance live in intimate surroundings. Well\, and supporting the arts is ALWAYS a good thing. See you at ALOFT!
X-ALT-DESC;FMTTYPE=text/html:Magnum Opus\, Madison&rsquo\;s newest dance company\, will be staging its premiere performance titled ALOFT\, at the River Arts Center. The company will be taking flight for the first time at this dynamic arts center with both classical and contemporary works. You&rsquo\;ll also get to hear a live ensemble of local musicians! It&rsquo\;s not often you get the chance to see a first performance like ALOFT\, with six professional dancers who&rsquo\;ve moved to the Madison area from around the country to start something fresh and exciting. Great for adults &hellip\; and for any younger ballet students who want the chance to see thrilling dance live in intimate surroundings. Well\, and supporting the arts is ALWAYS a good thing. See you at ALOFT!
LOCATION:River Arts Center
UID:e.1184.12894
SEQUENCE:3
DTSTAMP:20260424T221758Z
URL:http://members.saukprairie.com/events/details/aloft-12894
END:VEVENT

END:VCALENDAR
