BEGIN:VCALENDAR
VERSION:2.0
PRODID:-//ChamberMaster//Event Calendar 2.0//EN
METHOD:PUBLISH
X-PUBLISHED-TTL:P3D
REFRESH-INTERVAL:P3D
CALSCALE:GREGORIAN
BEGIN:VEVENT
DTSTART:20200222T190000Z
DTEND:20200222T200000Z
X-MICROSOFT-CDO-ALLDAYEVENT:FALSE
SUMMARY:American Girl Party
DESCRIPTION:Join us for an American Girl Party at the Ruth Culver Community Library Saturday\, February 22 at 1:00pm. Special guest\, hairdresser Sarah Richard\, will instruct participants in how to care for and style their doll's hair.  Bring your doll! Free hairbrush and hair ties for all.  Refreshments after hairstyling and prizes for all! Space is limited\; registration is required. Thanks to Sarah Richard\, Jayne Katers and Laura Netzinger for making this event possible. Contact Beth at 643-8318 with questions.
X-ALT-DESC;FMTTYPE=text/html:Join us for an American Girl Party at the Ruth Culver Community Library Saturday\, February 22 at 1:00pm. Special guest\, hairdresser Sarah Richard\, will instruct participants in how to care for and style their doll&#39\;s hair.&nbsp\; Bring your doll! Free hairbrush and hair ties for all.&nbsp\; Refreshments after hairstyling and prizes for all! <strong>Space is limited\; registration is required.</strong> Thanks to Sarah Richard\, Jayne Katers and Laura Netzinger for making this event possible. Contact Beth at 643-8318 with questions.
LOCATION:Ruth Culver Community Library 540 Water Street\, Prairie du Sac
UID:e.1184.24000
SEQUENCE:3
DTSTAMP:20260423T041504Z
URL:http://members.saukprairie.com/events/details/american-girl-party-24000
END:VEVENT

END:VCALENDAR
