BEGIN:VCALENDAR
VERSION:2.0
PRODID:-//ChamberMaster//Event Calendar 2.0//EN
METHOD:PUBLISH
X-PUBLISHED-TTL:P3D
REFRESH-INTERVAL:P3D
CALSCALE:GREGORIAN
BEGIN:VEVENT
DTSTART:20190916T170000Z
DTEND:20190916T223000Z
X-MICROSOFT-CDO-ALLDAYEVENT:FALSE
SUMMARY:American Red Cross Blood Drive at Graceway Church
DESCRIPTION:The need is constant.\n\nThe gratification is instant.\n\nGive Blood.\n\n\n\nBlood Drive\n\nSponsored by Friends of Sauk Prairie Healthcare\n\n\n\nAppointments preferred\; walk-ins welcome!\n\n\n\nFor an appointment call\n\n1-800-Red-Cross (1-800-733-2767) or visit redcrossblood.org\n\n\n\nAs a thank you for your generosity\, if you come  to give at this drive\, we'll send you a $5 Amazon.com Gift Card*\, via email. * Restricitions apply\, see amazon.com/gc-legal. Terms and conditions apply\, visit: rclbood.org/together
X-ALT-DESC;FMTTYPE=text/html:<p>The need is constant.<br />\nThe gratification is instant.<br />\nGive Blood.<br />\n<br />\nBlood Drive<br />\nSponsored by Friends of Sauk Prairie Healthcare<br />\n<br />\nAppointments preferred\; walk-ins welcome!<br />\n<br />\nFor an appointment call<br />\n1-800-Red-Cross (1-800-733-2767) or visit redcrossblood.org<br />\n<br />\nAs a thank you for your generosity\, if you come&nbsp\; to give at this drive\, we&#39\;ll send you a $5 Amazon.com Gift Card*\, via email. * Restricitions apply\, see amazon.com/gc-legal. Terms and conditions apply\, visit: rclbood.org/together</p>\n
LOCATION:Graceway Church 1375 Lincoln Ave Prairie du Sac\, WI 53578
UID:e.1184.22707
SEQUENCE:3
DTSTAMP:20260423T114024Z
URL:http://members.saukprairie.com/events/details/american-red-cross-blood-drive-at-graceway-church-22707
END:VEVENT

END:VCALENDAR
