BEGIN:VCALENDAR
VERSION:2.0
PRODID:-//ChamberMaster//Event Calendar 2.0//EN
METHOD:PUBLISH
X-PUBLISHED-TTL:P3D
REFRESH-INTERVAL:P3D
CALSCALE:GREGORIAN
BEGIN:VEVENT
DTSTART:20210517T170000Z
DTEND:20210517T223000Z
X-MICROSOFT-CDO-ALLDAYEVENT:FALSE
SUMMARY:American Red Cross Blood Drive at River Hills Community Church
DESCRIPTION:Summer FULL OF LIFE\n\n\n\nSauk Prairie Community Blood Drive.\n\nSponsored by Friends of Sauk Prairie Healthcare\n\n\n\nAppointments preferred\; walk-ins welcome!\n\n\n\nFor an appointment call\n\n1-800-Red-Cross (1-800-733-2767) or visit redcrossblood.org
X-ALT-DESC;FMTTYPE=text/html:<p>Summer FULL OF LIFE<br />\n<br />\nSauk Prairie Community Blood Drive.<br />\nSponsored by Friends of Sauk Prairie Healthcare<br />\n<br />\nAppointments preferred\; walk-ins welcome!<br />\n<br />\nFor an appointment call<br />\n1-800-Red-Cross (1-800-733-2767) or visit <a href="http://redcrossblood.org">redcrossblood.org</a><br />\n&nbsp\;</p>\n
LOCATION:River Hills Community Church 1111 Sycamore Street Sauk City\, WI 53583
UID:e.1184.26608
SEQUENCE:3
DTSTAMP:20260422T064551Z
URL:http://members.saukprairie.com/events/details/american-red-cross-blood-drive-at-river-hills-community-church-26608
END:VEVENT

END:VCALENDAR
