BEGIN:VCALENDAR
VERSION:2.0
PRODID:-//ChamberMaster//Event Calendar 2.0//EN
METHOD:PUBLISH
X-PUBLISHED-TTL:P3D
REFRESH-INTERVAL:P3D
CALSCALE:GREGORIAN
BEGIN:VEVENT
DTSTART:20160404T170000Z
DTEND:20160404T223000Z
X-MICROSOFT-CDO-ALLDAYEVENT:FALSE
SUMMARY:American Red Cross Blood Drive at the S.P. Evangelical Free Church
DESCRIPTION:The need is constant.\n\nThe gratification is instant.\n\nGive Blood.\n\n\n\nBlood Drive\n\nSponsored by Friends of Sauk Prairie Healthcare\n\n\n\nAppointments preferred\; walk-ins welcome!\n\n\n\nFor an appointment call\n\n1-800-Red-Cross (1-800-733-2767) or visit redcrossblood.org
X-ALT-DESC;FMTTYPE=text/html:<p>The need is constant.<br />\nThe gratification is instant.<br />\nGive Blood.<br />\n<br />\nBlood Drive<br />\nSponsored by Friends of Sauk Prairie Healthcare<br />\n<br />\nAppointments preferred\; walk-ins welcome!<br />\n<br />\nFor an appointment call<br />\n1-800-Red-Cross (1-800-733-2767) or visit redcrossblood.org<br />\n<br />\n&nbsp\;</p>\n
LOCATION:Sauk Prairie Evangelical Free Church 1375 Lincoln Ave Prairie du Sac\, WI 53578
UID:e.1184.8406
SEQUENCE:3
DTSTAMP:20260426T033834Z
URL:http://members.saukprairie.com/events/details/american-red-cross-blood-drive-at-the-s-p-evangelical-free-church-04-04-2016-8406
END:VEVENT

END:VCALENDAR
