BEGIN:VCALENDAR
VERSION:2.0
PRODID:-//ChamberMaster//Event Calendar 2.0//EN
METHOD:PUBLISH
X-PUBLISHED-TTL:P3D
REFRESH-INTERVAL:P3D
CALSCALE:GREGORIAN
BEGIN:VEVENT
DTSTART:20180611T130000Z
DTEND:20180615T200000Z
X-MICROSOFT-CDO-ALLDAYEVENT:FALSE
SUMMARY:American Red Cross Water Safety Instructor Course
DESCRIPTION:Are you ready to become a swim lesson instructor? We have the course for YOU! Upon completion you will be certified to teach water safety classes including the Basic Water Rescue course\, Longfellow's WHALE Tales\, six levels of the learn to swim and parent and child aquatics. The course includes practice teaching\, stroke work\, and teaching techniques. Students must be 16 years of age prior to the last day of class.
X-ALT-DESC;FMTTYPE=text/html:<span style="color: rgb(102\, 102\, 102)\; font-family: &quot\;Helvetica Neue&quot\;\, Helvetica\, Arial\, sans-serif\;">Are you ready to become a swim lesson instructor? We have the course for YOU! Upon completion you will be certified to teach water safety classes including the Basic Water Rescue course\, Longfellow&#39\;s WHALE Tales\, six levels of the learn to swim and parent and child aquatics. The course includes practice teaching\, stroke work\, and teaching techniques. Students must be 16 years of age prior to the last day of class.</span>
LOCATION:
UID:e.1184.17773
SEQUENCE:3
DTSTAMP:20260424T113017Z
URL:http://members.saukprairie.com/events/details/american-red-cross-water-safety-instructor-course-17773
END:VEVENT

END:VCALENDAR
