BEGIN:VCALENDAR
VERSION:2.0
PRODID:-//ChamberMaster//Event Calendar 2.0//EN
METHOD:PUBLISH
X-PUBLISHED-TTL:P3D
REFRESH-INTERVAL:P3D
CALSCALE:GREGORIAN
BEGIN:VEVENT
DTSTART:20220625T220000Z
DTEND:20220626T010000Z
X-MICROSOFT-CDO-ALLDAYEVENT:FALSE
SUMMARY:An Evening with the Cranes
DESCRIPTION:Join us for the International Crane Foundation's annual fundraiser\, An Evening with the Cranes\, at our headquarters in Baraboo\, Wisconsin. From 5 to 8 p.m.\, enjoy wine\, beer and food while you meet our staff\, and of course\, cranes! Enjoy the music of cranes as you discover how the International Crane Foundation inspires people to help save cranes and their habitats worldwide. Stroll our beautiful prairie and woodland trails as the sun sets and shop our exclusive crane gear in our one-of-a-kind gift shop. Don't miss out on this unique experience!
X-ALT-DESC;FMTTYPE=text/html:Join us for the International Crane Foundation&rsquo\;s annual fundraiser\, An Evening with the Cranes\, at our headquarters in Baraboo\, Wisconsin. From 5 to 8 p.m.\, enjoy wine\, beer and food while you meet our staff\, and of course\, cranes! Enjoy the music of cranes as you discover how the International Crane Foundation inspires people to help save cranes and their habitats worldwide. Stroll our beautiful prairie and woodland trails as the sun sets and shop our exclusive crane gear in our one-of-a-kind gift shop. Don&rsquo\;t miss out on this unique experience!
LOCATION:International Crane Foundation
UID:e.1184.27928
SEQUENCE:3
DTSTAMP:20260421T120133Z
URL:http://members.saukprairie.com/events/details/an-evening-with-the-cranes-06-25-2022-27928
END:VEVENT

END:VCALENDAR
