BEGIN:VCALENDAR
VERSION:2.0
PRODID:-//ChamberMaster//Event Calendar 2.0//EN
METHOD:PUBLISH
X-PUBLISHED-TTL:P3D
REFRESH-INTERVAL:P3D
CALSCALE:GREGORIAN
BEGIN:VEVENT
DTSTART:20180115T233000Z
DTEND:20180116T030000Z
X-MICROSOFT-CDO-ALLDAYEVENT:FALSE
SUMMARY:Annual Awards Dinner & Meeting 2018
DESCRIPTION:Join us for our Annual Meeting\, which includes Awards and Dinner at the Vintage Brewing Co.\n\n\n\nTickets are $35/person or $325 for a table of 10.
X-ALT-DESC;FMTTYPE=text/html:Join us for our Annual Meeting\, which includes Awards and Dinner at the Vintage Brewing Co.<br />\n<br />\nTickets are $35/person or $325 for a table of 10.
LOCATION:Vintage Brewing Co. Sauk City\, WI 53583
UID:e.1184.13982
SEQUENCE:3
DTSTAMP:20260424T175529Z
URL:http://members.saukprairie.com/events/details/annual-awards-dinner-meeting-2018-13982
END:VEVENT

END:VCALENDAR
