BEGIN:VCALENDAR
VERSION:2.0
PRODID:-//ChamberMaster//Event Calendar 2.0//EN
METHOD:PUBLISH
X-PUBLISHED-TTL:P3D
REFRESH-INTERVAL:P3D
CALSCALE:GREGORIAN
BEGIN:VEVENT
DTSTART:20190114T233000Z
DTEND:20190115T030000Z
X-MICROSOFT-CDO-ALLDAYEVENT:FALSE
SUMMARY:Annual Awards Dinner & Meeting 2019
DESCRIPTION:Join us for our Annual Meeting\, which includes Awards and Dinner at the Dorf Haus.\n\n\n\nTickets are $35/person - 260 tickets available
X-ALT-DESC;FMTTYPE=text/html:Join us for our Annual Meeting\, which includes Awards and Dinner at the Dorf Haus.<br />\n<br />\nTickets are $35/person - 260 tickets available
LOCATION:Dorf Haus Sauk City\, WI 53583
UID:e.1184.21432
SEQUENCE:3
DTSTAMP:20260424T003233Z
URL:http://members.saukprairie.com/events/details/annual-awards-dinner-meeting-2019-21432
END:VEVENT

END:VCALENDAR
