BEGIN:VCALENDAR
VERSION:2.0
PRODID:-//ChamberMaster//Event Calendar 2.0//EN
METHOD:PUBLISH
X-PUBLISHED-TTL:P3D
REFRESH-INTERVAL:P3D
CALSCALE:GREGORIAN
BEGIN:VEVENT
DTSTART:20200210T233000Z
DTEND:20200211T030000Z
X-MICROSOFT-CDO-ALLDAYEVENT:FALSE
SUMMARY:Annual Awards Dinner & Meeting 2020
DESCRIPTION:Join us for our Annual Meeting\, which includes Awards and Dinner at Vintage Brewing Co.\n\n\n\nTickets are $40/person - 240 tickets available\n\n\n\nClick here to sponsor!
X-ALT-DESC;FMTTYPE=text/html:Join us for our Annual Meeting\, which includes Awards and Dinner at Vintage Brewing Co.<br />\n<br />\nTickets are $40/person - 240 tickets available<br />\n<br />\n<a href="https://chambermaster.blob.core.windows.net/userfiles/UserFiles/chambers/1184/File/SponsorshipForm.pdf">Click here to sponsor!</a>
LOCATION:Vintage Brewing Co. Sauk City
UID:e.1184.23584
SEQUENCE:3
DTSTAMP:20260423T041308Z
URL:http://members.saukprairie.com/events/details/annual-awards-dinner-meeting-2020-23584
END:VEVENT

END:VCALENDAR
