BEGIN:VCALENDAR
VERSION:2.0
PRODID:-//ChamberMaster//Event Calendar 2.0//EN
METHOD:PUBLISH
X-PUBLISHED-TTL:P3D
REFRESH-INTERVAL:P3D
CALSCALE:GREGORIAN
BEGIN:VEVENT
DTSTART;VALUE=DATE:20220613
DTEND;VALUE=DATE:20220614
TRANSP:TRANSPARENT
X-MICROSOFT-CDO-ALLDAYEVENT:TRUE
SUMMARY:Annual Awards Dinner & Meeting 2022
DESCRIPTION:Join us for our Annual Meeting\, which includes Awards and Dinner at Dorf Haus.\n\n\n\nTickets are $40/person - 248 tickets available
X-ALT-DESC;FMTTYPE=text/html:Join us for our Annual Meeting\, which includes Awards and Dinner at Dorf Haus.<br />\n<br />\nTickets are $40/person - 248 tickets available
LOCATION:Dorf Haus
UID:e.1184.27975
SEQUENCE:3
DTSTAMP:20260421T115945Z
URL:http://members.saukprairie.com/events/details/annual-awards-dinner-meeting-2022-27975
END:VEVENT

END:VCALENDAR
