BEGIN:VCALENDAR
VERSION:2.0
PRODID:-//ChamberMaster//Event Calendar 2.0//EN
METHOD:PUBLISH
X-PUBLISHED-TTL:P3D
REFRESH-INTERVAL:P3D
CALSCALE:GREGORIAN
BEGIN:VEVENT
DTSTART;VALUE=DATE:20230910
DTEND;VALUE=DATE:20230911
TRANSP:TRANSPARENT
X-MICROSOFT-CDO-ALLDAYEVENT:TRUE
SUMMARY:Annual Drive-Thru Chicken Dinner
DESCRIPTION:First United Church of Christ Annual Chicken Dinner\n\n\n\nDinner includes 1/2 chicken\, baked potato\, coleslaw\, roll and treat!
X-ALT-DESC;FMTTYPE=text/html:First United Church of Christ Annual Chicken Dinner<br />\n<br />\nDinner includes 1/2 chicken\, baked potato\, coleslaw\, roll and treat!
LOCATION:
UID:e.1184.31018
SEQUENCE:3
DTSTAMP:20260420T073336Z
URL:http://members.saukprairie.com/events/details/annual-drive-thru-chicken-dinner-31018
END:VEVENT

END:VCALENDAR
