BEGIN:VCALENDAR
VERSION:2.0
PRODID:-//ChamberMaster//Event Calendar 2.0//EN
METHOD:PUBLISH
X-PUBLISHED-TTL:P3D
REFRESH-INTERVAL:P3D
CALSCALE:GREGORIAN
BEGIN:VEVENT
DTSTART;VALUE=DATE:20240908
DTEND;VALUE=DATE:20240909
TRANSP:TRANSPARENT
X-MICROSOFT-CDO-ALLDAYEVENT:TRUE
SUMMARY:Annual Drive-Thru Chicken Dinner
DESCRIPTION:First United Church of Christ Annual Chicken Dinner\n\n\n\nSunday\, September 8th | 11 am until gone\n\n\n\nCost:  $15.00\n\n\n\nDinner includes 1/2 chicken\, baked potato\, coleslaw\, roll and treat!
X-ALT-DESC;FMTTYPE=text/html:First United Church of Christ Annual Chicken Dinner<br />\n<br />\nSunday\, September 8th | 11 am until gone<br />\n<br />\nCost:&nbsp\; $15.00<br />\n<br />\nDinner includes 1/2 chicken\, baked potato\, coleslaw\, roll and treat!
LOCATION:First United Church of Christ
UID:e.1184.33023
SEQUENCE:3
DTSTAMP:20260419T160203Z
URL:http://members.saukprairie.com/events/details/annual-drive-thru-chicken-dinner-33023
END:VEVENT

END:VCALENDAR
