BEGIN:VCALENDAR
VERSION:2.0
PRODID:-//ChamberMaster//Event Calendar 2.0//EN
METHOD:PUBLISH
X-PUBLISHED-TTL:P3D
REFRESH-INTERVAL:P3D
CALSCALE:GREGORIAN
BEGIN:VEVENT
DTSTART;VALUE=DATE:20220416
DTEND;VALUE=DATE:20220417
TRANSP:TRANSPARENT
X-MICROSOFT-CDO-ALLDAYEVENT:TRUE
SUMMARY:Annual Easter Egg Hunt
DESCRIPTION:Bring the entire family to Marion Park on April 16th for our Annual Easter Egg Hunt! Start time is 10am. Be sure to bring a basket!\n\nAll children must be accompanied by an adult.
X-ALT-DESC;FMTTYPE=text/html:<span style="color: rgb(5\, 5\, 5)\; font-family: &quot\;Segoe UI Historic&quot\;\, &quot\;Segoe UI&quot\;\, Helvetica\, Arial\, sans-serif\; font-size: 15px\;">Bring the entire family to Marion Park on April 16th for our Annual Easter Egg Hunt! Start time is 10am. Be sure to bring a basket!</span><br style="color: rgb(5\, 5\, 5)\; font-family: &quot\;Segoe UI Historic&quot\;\, &quot\;Segoe UI&quot\;\, Helvetica\, Arial\, sans-serif\; font-size: 15px\;" />\n<span style="color: rgb(5\, 5\, 5)\; font-family: &quot\;Segoe UI Historic&quot\;\, &quot\;Segoe UI&quot\;\, Helvetica\, Arial\, sans-serif\; font-size: 15px\;">All children must be accompanied by an adult.</span>
LOCATION:Marion Park Prairie du Sac
UID:e.1184.27191
SEQUENCE:3
DTSTAMP:20260421T144012Z
URL:http://members.saukprairie.com/events/details/annual-easter-egg-hunt-27191
END:VEVENT

END:VCALENDAR
