BEGIN:VCALENDAR
VERSION:2.0
PRODID:-//ChamberMaster//Event Calendar 2.0//EN
METHOD:PUBLISH
X-PUBLISHED-TTL:P3D
REFRESH-INTERVAL:P3D
CALSCALE:GREGORIAN
BEGIN:VEVENT
DTSTART:20171022T160000Z
DTEND:20171022T210000Z
X-MICROSOFT-CDO-ALLDAYEVENT:FALSE
SUMMARY:Annual United Way Sauk Prairie Tailgate
DESCRIPTION:Annual Tailgate fundraising event for United Way Sauk Prairie.  All profits go to the Sauk Prairie United Way. Watch the Packers beat New Orleans and help your United Way support 17 local organizations!\n\n\n\nSponsors:\n\n	Consumers Co-op (Silver)\n	Milwaukee Valve (Bronze)\n	Riviera Bowl (Special)
X-ALT-DESC;FMTTYPE=text/html:Annual Tailgate fundraising event for United Way Sauk Prairie. &nbsp\;All profits go to the Sauk Prairie United Way. Watch the Packers beat New Orleans and help your United Way support 17 local organizations!<br />\n<br />\nSponsors:\n<ul>\n	<li>Consumers Co-op (Silver)</li>\n	<li>Milwaukee Valve (Bronze)</li>\n	<li>Riviera Bowl (Special)</li>\n</ul>\n
LOCATION:Riviera Bowl Sauk City\, WI 5383
UID:e.1184.12927
SEQUENCE:3
DTSTAMP:20260424T222219Z
URL:http://members.saukprairie.com/events/details/annual-united-way-sauk-prairie-tailgate-12927
END:VEVENT

END:VCALENDAR
