BEGIN:VCALENDAR
VERSION:2.0
PRODID:-//ChamberMaster//Event Calendar 2.0//EN
METHOD:PUBLISH
X-PUBLISHED-TTL:P3D
REFRESH-INTERVAL:P3D
CALSCALE:GREGORIAN
BEGIN:VEVENT
DTSTART;VALUE=DATE:20240301
DTEND;VALUE=DATE:20240501
TRANSP:TRANSPARENT
X-MICROSOFT-CDO-ALLDAYEVENT:TRUE
SUMMARY:Annual Virtual Member Show
DESCRIPTION:To thank our members for their continued support\, River Arts Inc. presents its annual Virtual Member Show!\n\n\n\nAll River Arts Members who identify as makers or artists are welcome to apply!\n\n\n\nWe look forward to celebrating the artistic passions of our generous RAI Members whose support makes so many facets of our programming possible. Thank you for giving to us and back to the community!\n\n\n\nSubmissions are open from January 9th through March 15\, 2024.\n\n\n\nDeadline to apply: March 15\, 2024\n\n\n\nExhibition dates: April 1-30\, 2024\n\n\n\nAll River Arts Members who identify as makers or artists are welcome to apply regardless of skill level or professional experience. Members may submit up to five individual artworks for the show. It is free to apply. This opportunity is for RAI Members only (at any level).\n\n\n\n***If you are both a member and an artist already represented by the River Arts on Water Gallery\, you are strongly encouraged to enter work never before seen in the gallery or an RAI show. If a sale is made from this show\, Artists retain 75% of sales\, with 25% retained by RAI. NFS (not for sale) work is allowed. Please indicate if you can ship your artwork if it sells and the shipping price so it may be communicated to the buyer. If you cannot ship the work\, it must be brought to River Arts on Water Gallery at 590 Water Street\, Prairie du Sac\, WI 53578\, to complete the sale.
X-ALT-DESC;FMTTYPE=text/html:To thank our members for their continued support\, River Arts Inc. presents its annual Virtual Member Show!<br />\n<br />\nAll River Arts Members who identify as makers or artists are welcome to <u><strong><a href="https://form.jotform.com/223555327118051">apply</a></strong></u>!<br />\n<br />\nWe look forward to celebrating the artistic passions of our generous RAI Members whose support makes so many facets of our programming possible. Thank you for giving to us and back to the community!<br />\n<br />\nSubmissions are open from January 9th through March 15\, 2024.<br />\n<br />\nDeadline to apply: March 15\, 2024<br />\n<br />\nExhibition dates: April 1-30\, 2024<br />\n<br />\nAll River Arts Members who identify as makers or artists are welcome to apply regardless of skill level or professional experience. Members may submit up to five individual artworks for the show. It is free to apply. <strong>This opportunity is for RAI Members only (at any level)</strong><em><strong>.</strong><br />\n<br />\n***If you are both a member and an artist already represented by the River Arts on Water Gallery\, you are strongly encouraged to enter work never before seen in the gallery or an RAI show. If a sale is made from this show\, Artists retain 75% of sales\, with 25% retained by RAI. NFS (not for sale) work is allowed. Please indicate if you can ship your artwork if it sells and the shipping price so it may be communicated to the buyer. If you cannot ship the work\, it must be brought to River Arts on Water Gallery at 590 Water Street\, Prairie du Sac\, WI 53578\, to complete the sale.</em>
LOCATION:
UID:e.1184.32050
SEQUENCE:3
DTSTAMP:20260419T220931Z
URL:http://members.saukprairie.com/events/details/annual-virtual-member-show-32050
END:VEVENT

END:VCALENDAR
