BEGIN:VCALENDAR
VERSION:2.0
PRODID:-//ChamberMaster//Event Calendar 2.0//EN
METHOD:PUBLISH
X-PUBLISHED-TTL:P3D
REFRESH-INTERVAL:P3D
CALSCALE:GREGORIAN
BEGIN:VEVENT
DTSTART;VALUE=DATE:20190622
DTEND;VALUE=DATE:20190624
TRANSP:TRANSPARENT
X-MICROSOFT-CDO-ALLDAYEVENT:TRUE
SUMMARY:Antique Tap Poker Run
DESCRIPTION:The Antique Tap is once again having a poker run (All vehicles are welcome\, and it will be rain or shine) to raise money for the Someday Foundation. The someday foundation assist people diagnosed with serious medical challenges by providing funds to help cover every day expenses. This years ride will be heading to the beautiful town of New Glarus and back through southern Wisconsin.
X-ALT-DESC;FMTTYPE=text/html:The Antique Tap is once again having a poker run (All vehicles are welcome\, and it will be rain or shine) to raise money for the Someday Foundation. The someday foundation assist people diagnosed with serious medical challenges by providing funds to help cover every day expenses. This years ride will be heading to the beautiful town of New Glarus and back through southern Wisconsin.
LOCATION:817 Water Street Sauk City WI
UID:e.1184.22269
SEQUENCE:3
DTSTAMP:20260423T171713Z
URL:http://members.saukprairie.com/events/details/antique-tap-poker-run-22269
END:VEVENT

END:VCALENDAR
