BEGIN:VCALENDAR
VERSION:2.0
PRODID:-//ChamberMaster//Event Calendar 2.0//EN
METHOD:PUBLISH
X-PUBLISHED-TTL:P3D
REFRESH-INTERVAL:P3D
CALSCALE:GREGORIAN
BEGIN:VEVENT
DTSTART:20200620T150000Z
DTEND:20200620T223000Z
X-MICROSOFT-CDO-ALLDAYEVENT:FALSE
SUMMARY:Antique Tap Poker Run
DESCRIPTION:The Antique Tap is once again having a poker run (All vehicles are welcome\, and it will be rain or shine) to raise money for the Someday Foundation. The someday foundation assist people diagnosed with serious medical challenges by providing funds to help cover every day expenses. \n\n\n\nFor more information contact Josie or Julie at the Antique Tap (817 Water Street\, Sauk City WI) 608-643-2233 or Angie at 608-576-6712
X-ALT-DESC;FMTTYPE=text/html:The Antique Tap is once again having a poker run (All vehicles are welcome\, and it will be rain or shine) to raise money for the Someday Foundation. The someday foundation assist people diagnosed with serious medical challenges by providing funds to help cover every day expenses.&nbsp\;<br />\n<br />\nFor more information contact Josie or Julie at the Antique Tap (817 Water Street\, Sauk City WI) 608-643-2233 or Angie at 608-576-6712
LOCATION:817 Water Street Sauk City WI
UID:e.1184.24143
SEQUENCE:3
DTSTAMP:20260422T224812Z
URL:http://members.saukprairie.com/events/details/antique-tap-poker-run-24143
END:VEVENT

END:VCALENDAR
