BEGIN:VCALENDAR
VERSION:2.0
PRODID:-//ChamberMaster//Event Calendar 2.0//EN
METHOD:PUBLISH
X-PUBLISHED-TTL:P3D
REFRESH-INTERVAL:P3D
CALSCALE:GREGORIAN
BEGIN:VEVENT
DTSTART;VALUE=DATE:20220625
DTEND;VALUE=DATE:20220626
TRANSP:TRANSPARENT
X-MICROSOFT-CDO-ALLDAYEVENT:TRUE
SUMMARY:Antique Tap Poker Run
DESCRIPTION:Join us for Antique Tap's 4th Annual Poker Run! \n\n\n\nAll proceeds will be donated to our dear friend\, Angie Miller\, to help her kick cancer's a**!\n\n\n\nRegistration will be at Antique Tap from 9:30am-11:30am on Saturday\, June 25th. $25 per rider. Pre-register anytime on Friday\, June 24th at Antique Tap.\n\n\n\n1pm: Meat Raffle\n\n\n\nLIVE MUSIC: 1-4pm & 5-8pm\n\nDJ: 9pm-midnight\n\n\n\nFOOD TRUCKS: Jose's 12-9pm & Command Center starting at 4pm\n\n\n\nRiders return to Antique Tap by 5pm. \n\n\n\nALL VEHICLES WELCOME!\n\n\n\n*sponsored by Bar Buddies*
X-ALT-DESC;FMTTYPE=text/html:<p>Join us for Antique Tap&#39\;s 4th Annual Poker Run!&nbsp\;<br />\n<br />\nAll proceeds will be donated to our dear friend\, Angie Miller\, to help her kick cancer&#39\;s a**!<br />\n<br />\nRegistration will be at Antique Tap from 9:30am-11:30am on Saturday\, June 25th. $25 per rider. Pre-register anytime on Friday\, June 24th at Antique Tap.<br />\n<br />\n1pm: Meat Raffle<br />\n<br />\nLIVE MUSIC: 1-4pm &amp\; 5-8pm<br />\nDJ: 9pm-midnight<br />\n<br />\nFOOD TRUCKS: Jose&#39\;s 12-9pm &amp\; Command Center starting at 4pm<br />\n<br />\nRiders return to Antique Tap by 5pm.&nbsp\;<br />\n<br />\nALL VEHICLES WELCOME!<br />\n<br />\n*sponsored by Bar Buddies*</p>\n
LOCATION:Antique Tap: 817 Water St\, Sauk City
UID:e.1184.27959
SEQUENCE:3
DTSTAMP:20260421T120133Z
URL:http://members.saukprairie.com/events/details/antique-tap-poker-run-27959
END:VEVENT

END:VCALENDAR
