BEGIN:VCALENDAR
VERSION:2.0
PRODID:-//ChamberMaster//Event Calendar 2.0//EN
METHOD:PUBLISH
X-PUBLISHED-TTL:P3D
REFRESH-INTERVAL:P3D
CALSCALE:GREGORIAN
BEGIN:VEVENT
DTSTART:20170225T200000Z
DTEND:20170225T220000Z
X-MICROSOFT-CDO-ALLDAYEVENT:FALSE
SUMMARY:Anything Can Talk starring David Pendleton
DESCRIPTION:David Pendleton's flawless technique as a ventriloquist sets him apart from just about any other ventriloquist you have ever seen. He will not only amaze you with his ability to make you believe that anything can talk\, but his comedy act will also keep you laughing from start to finish. \n\n\n\n\n\nDavid brings to his show a cast of comedic characters including lovable but blunt Aunt Tilly\, a 94 year-old spinster\; the classic quick-witted trouble maker\, Mack Elroy\; the dopey yet adorable hound dog\, Buford\; and the slightly misguided albino vulture\, Vern. Of course no show would be complete without a few surprise appearances from members of the audience as well! \n\nWhether you're eight or eighty\, cruising or schmoozing\, this seasoned professional\, in-demand comedian\, and top-of- his-class expert ventriloquist will keep you in stitches. David Pendleton's high-quality\, family-friendly humor has mesmerized audiences the world over. \n\n\n\n\n\n\n\n\nwww.riverartsinc.org
X-ALT-DESC;FMTTYPE=text/html:<div>\n<div>\n<div>\n<div>\n<p><span style="font-family:helveticaneue\; font-size:10pt">David Pendleton&rsquo\;s flawless technique as a ventriloquist sets him apart from just about any other ventriloquist you have ever seen. He will not only amaze you with his ability to make you believe that anything can talk\, but his comedy act will also keep you laughing from start to finish.&nbsp\;</span></p>\n\n<div>\n<div>\n<div>\n<div>\n<p><span style="font-family:helveticaneue\; font-size:10pt">David brings to his show a cast of comedic characters including lovable but blunt Aunt Tilly\, a 94 year-old spinster\; the classic quick-witted trouble maker\, Mack Elroy\; the dopey yet adorable hound dog\, Buford\; and the slightly misguided albino vulture\, Vern. Of course no show would be complete without a few surprise appearances from members of the audience as well! </span></p>\n\n<p><span style="font-family:helveticaneue\; font-size:10pt">Whether you&rsquo\;re eight or eighty\, cruising or schmoozing\, this seasoned professional\, in-demand comedian\, and top-of- his-class expert ventriloquist will keep you in stitches. David Pendleton&rsquo\;s high-quality\, family-friendly humor has mesmerized audiences the world over.&nbsp\;</span></p>\n</div>\n</div>\n</div>\n</div>\n</div>\n</div>\n</div>\n</div>\nwww.riverartsinc.org
LOCATION:River Arts Center\, 105 9th St\, Prairie du Sac
UID:e.1184.8535
SEQUENCE:3
DTSTAMP:20260425T110016Z
URL:http://members.saukprairie.com/events/details/anything-can-talk-starring-david-pendleton-02-25-2017-8535
END:VEVENT

END:VCALENDAR
