BEGIN:VCALENDAR
VERSION:2.0
PRODID:-//ChamberMaster//Event Calendar 2.0//EN
METHOD:PUBLISH
X-PUBLISHED-TTL:P3D
REFRESH-INTERVAL:P3D
CALSCALE:GREGORIAN
BEGIN:VEVENT
DTSTART:20160514T000000Z
DTEND:20160514T020000Z
X-MICROSOFT-CDO-ALLDAYEVENT:FALSE
SUMMARY:Around the World in 80 Days
DESCRIPTION:Based on Jules Verne's popular novel\, this is the hilarious story of Phileas Fogg's journey to satisfy a wager and travel around the world in just 80 days. With bandits\, a damsel in distress\, and problems around every corner\, will he make the deadline? Danger\, romance\, and comic surprises abound as this adventure is brought to life with five extraordinary actors performing 39 different characters!
X-ALT-DESC;FMTTYPE=text/html:<span style="color:rgb(20\, 24\, 35)\; font-family:helvetica\,arial\,sans-serif\; font-size:14px">Based on Jules Verne&#39\;s popular novel\, this is the hilarious story of Phileas Fogg&#39\;s journey to satisfy a wager and travel around the world in just 80 days. With bandits\, a damsel in distress\, and problems around every corner\, will he make the deadline? Danger\, romance\, and comic surprises abound as this adventure is brought to life with five extraordinary actors performing 39 different characters!</span>
LOCATION:River Arts\, Inc. 590 Water St\, Prairie du Sac
UID:e.1184.6882
SEQUENCE:3
DTSTAMP:20260426T020309Z
URL:http://members.saukprairie.com/events/details/around-the-world-in-80-days-05-13-2016-6882
END:VEVENT

END:VCALENDAR
