BEGIN:VCALENDAR
VERSION:2.0
PRODID:-//ChamberMaster//Event Calendar 2.0//EN
METHOD:PUBLISH
X-PUBLISHED-TTL:P3D
REFRESH-INTERVAL:P3D
CALSCALE:GREGORIAN
BEGIN:VEVENT
DTSTART:20240126T003000Z
DTEND:20240126T012500Z
X-MICROSOFT-CDO-ALLDAYEVENT:FALSE
SUMMARY:Around Wisco: Author Talk with Camron Gillie
DESCRIPTION:Emergency open-heart surgery at age 47 forced photographer Cameron Gillie to make significant lifestyle changes. He started to combine exercise and photography\, a practice that evolved into the biggest photographic project of his decades-long photography career: to hike and photograph the entire Ice Age Trail. Cameron carried everything he needed on his back - his food\, shelter\, and photography gear - as he undertook the challenge of hiking 1200 miles. He shares scenes and stories from the trail in his new book: Around Wisco: Hiking the Ice Age Trail.\n\nGillie will weave tales and images from the trail into the story of his recovery from a major life-changing medical condition. His hope is to inspire people to get out and discover and explore the beautiful state of Wisconsin for themselves.
X-ALT-DESC;FMTTYPE=text/html:Emergency open-heart surgery at age 47 forced photographer Cameron Gillie to make significant lifestyle changes. He started to combine exercise and photography\, a practice that evolved into the biggest photographic project of his decades-long photography career: to hike and photograph the entire Ice Age Trail. Cameron carried everything he needed on his back - his food\, shelter\, and photography gear - as he undertook the challenge of hiking 1200 miles. He shares scenes and stories from the trail in his new book: <em>Around Wisco: Hiking the Ice Age Trail.</em><br />\nGillie will weave tales and images from the trail into the story of his recovery from a major life-changing medical condition. His hope is to inspire people to get out and discover and explore the beautiful state of Wisconsin for themselves.&nbsp\;
LOCATION:615 Phillips Blvd. Sauk City\, WI 53583
UID:e.1184.31424
SEQUENCE:3
DTSTAMP:20260420T020146Z
URL:http://members.saukprairie.com/events/details/around-wisco-author-talk-with-camron-gillie-31424
END:VEVENT

END:VCALENDAR
