BEGIN:VCALENDAR
VERSION:2.0
PRODID:-//ChamberMaster//Event Calendar 2.0//EN
METHOD:PUBLISH
X-PUBLISHED-TTL:P3D
REFRESH-INTERVAL:P3D
CALSCALE:GREGORIAN
BEGIN:VEVENT
DTSTART:20200205T010000Z
DTEND:20200205T023000Z
X-MICROSOFT-CDO-ALLDAYEVENT:FALSE
SUMMARY:Arrowheads!
DESCRIPTION:Philippe Coquard discusses his amazing arrowhead collection. Found an arrowhead? Bring it to the program and Philippe will identify it for you.
X-ALT-DESC;FMTTYPE=text/html:Philippe Coquard discusses his amazing arrowhead collection. Found an arrowhead? Bring it to the program and Philippe will identify it for you.
LOCATION:West Point Town Hall N2114 Rausch Road Lodi\, WI 53555
UID:e.1184.23996
SEQUENCE:3
DTSTAMP:20260423T041155Z
URL:http://members.saukprairie.com/events/details/arrowheads-23996
END:VEVENT

END:VCALENDAR
