BEGIN:VCALENDAR
VERSION:2.0
PRODID:-//ChamberMaster//Event Calendar 2.0//EN
METHOD:PUBLISH
X-PUBLISHED-TTL:P3D
REFRESH-INTERVAL:P3D
CALSCALE:GREGORIAN
BEGIN:VEVENT
DTSTART:20220615T150000Z
DTEND:20220615T190000Z
X-MICROSOFT-CDO-ALLDAYEVENT:FALSE
SUMMARY:Art in a Suitcase
DESCRIPTION:Session 1 for ages 4-7 at 11:00 a.m.\n\nSession 2 for ages 8 and up at 1:00 p.m.\n\n\n\nExplore oceans and their inhabitants with Mary Tooley as she takes a dive into the ocean. Kids will learn about its many sea creatures including whales\, sharks and octopus. The program concludes with a fun art project. Sponsored by Monona Bank.\n\nRegistration is required. Call or stop in today!
X-ALT-DESC;FMTTYPE=text/html:Session 1 for ages 4-7 at 11:00 a.m.<br />\nSession 2 for ages 8 and up at 1:00 p.m.<br />\n<br />\nExplore oceans and their inhabitants with Mary Tooley as she takes a dive into the ocean. Kids will learn about its many sea creatures including whales\, sharks and octopus. The program concludes with a fun art project. Sponsored by Monona Bank.<br />\nRegistration is required. Call or stop in today!
LOCATION:615 Phillips Blvd\, Sauk City\, WI
UID:e.1184.27669
SEQUENCE:3
DTSTAMP:20260421T115820Z
URL:http://members.saukprairie.com/events/details/art-in-a-suit-case-with-27669
END:VEVENT

END:VCALENDAR
