BEGIN:VCALENDAR
VERSION:2.0
PRODID:-//ChamberMaster//Event Calendar 2.0//EN
METHOD:PUBLISH
X-PUBLISHED-TTL:P3D
REFRESH-INTERVAL:P3D
CALSCALE:GREGORIAN
BEGIN:VEVENT
DTSTART;VALUE=DATE:20180707
DTEND;VALUE=DATE:20180708
TRANSP:TRANSPARENT
X-MICROSOFT-CDO-ALLDAYEVENT:TRUE
SUMMARY:ART in the Park
DESCRIPTION:Lodi Art Club Promotes the Art in the Park art show each year\, with proceeds going to Lodi High School art students who are pursuing a career in art or taking an outside of art school class.
X-ALT-DESC;FMTTYPE=text/html:<span style="color:black\;"><span style="font-family:times new roman\,serif\;"><span style="font-size:12.0pt\;">Lodi Art Club Promotes the Art in the Park art show each year\, with proceeds going to Lodi High School art students who are pursuing a career in art or taking an outside of art school class.</span></span></span>
LOCATION:Haberman Park in Lodi\, WI
UID:e.1184.18370
SEQUENCE:3
DTSTAMP:20260424T082643Z
URL:http://members.saukprairie.com/events/details/art-in-the-park-18370
END:VEVENT

END:VCALENDAR
