BEGIN:VCALENDAR
VERSION:2.0
PRODID:-//ChamberMaster//Event Calendar 2.0//EN
METHOD:PUBLISH
X-PUBLISHED-TTL:P3D
REFRESH-INTERVAL:P3D
CALSCALE:GREGORIAN
BEGIN:VEVENT
DTSTART;VALUE=DATE:20160618
DTEND;VALUE=DATE:20160619
TRANSP:TRANSPARENT
X-MICROSOFT-CDO-ALLDAYEVENT:TRUE
SUMMARY:Art June
DESCRIPTION:Sauk County Art Association\n\n\n\nA fine art and craft fair held on the beautiful Sauk County Courthouse lawn in Downtown Baraboo. Join us in 2016 as we celebrate our 52nd summer art fair.\n\n\n\nRain or shine\, explore original creative work and awaken your muse in this lovely setting.\n\n\n\nThe juried event includes children's activities\, entertainment and food\, and is in close proximity to the historic Al. Ringling Theatre\, downtown shops and restaurants.
X-ALT-DESC;FMTTYPE=text/html:Sauk County Art Association<br />\n<br />\nA fine art and craft fair held on the beautiful Sauk County Courthouse lawn in Downtown Baraboo. Join us in 2016 as we celebrate our 52nd summer art fair.<br />\n<br />\nRain or shine\, explore original creative work and awaken your muse in this lovely setting.<br />\n<br />\nThe juried event includes children&#39\;s activities\, entertainment and food\, and is in close proximity to the historic Al. Ringling Theatre\, downtown shops and restaurants.&nbsp\;&nbsp\;
LOCATION:
UID:e.1184.8409
SEQUENCE:3
DTSTAMP:20260426T003517Z
URL:http://members.saukprairie.com/events/details/art-june-06-18-2016-8409
END:VEVENT

END:VCALENDAR
