BEGIN:VCALENDAR
VERSION:2.0
PRODID:-//ChamberMaster//Event Calendar 2.0//EN
METHOD:PUBLISH
X-PUBLISHED-TTL:P3D
REFRESH-INTERVAL:P3D
CALSCALE:GREGORIAN
BEGIN:VEVENT
DTSTART:20181107T000000Z
DTEND:20181107T020000Z
X-MICROSOFT-CDO-ALLDAYEVENT:FALSE
SUMMARY:Art Presentation: Working with Color - An Evening with John Miller
DESCRIPTION:Working with Color: Towards understanding the science\, psychology and reasons for making color choices\n\nAn evening with John Miller\n\nTuesday\, November 6\, 2018 | 6-8pm | 590 Water St\, Prairie du Sac\, WI\n\nEarly bird registration: $25 through Oct 23\, $30 after Oct 23\n\nJoin artist John Miller for an evening pondering human impulses towards color. He'll discuss the science\, history\, and human conditions that lead us to choose certain colors for certain things\, as well as skills for choosing the best color for your desired outcomes. This applies to art certainly\, but also for painting a room in your house or sketching in a notebook.\n\nStudents will work with basic art materials in our studio to explore these concepts in a hands-on approach. All materials provided\n\nFrom the artist\, on color: \n\n"Color carries information that effects our emotions as well as our sense of space. Much of what we feel when we look at color relates to practical issues associated with human evolution. From both an emotional and environmental perspective blue is cool and red and yellow are warm or even hot. It's difficult to escape these color associations. When viewing open space\, the color yellow is most quickly filtered out by the atmosphere over distance. Blues are least affected over distance and so far off mountains look blue to us and we rarely see yellow on their slopes or within the shapes of their silhouettes. In pictorial space it is therefore quite difficult to make yellow recede and blue advance unless this is done with some skill. Our sense of space and distance are shaped by our color sense."
X-ALT-DESC;FMTTYPE=text/html:<p><strong>Working with Color: Towards understanding the science\, psychology and reasons for making color choices</strong></p>\n\n<p><strong>An evening with John Miller</strong></p>\n\n<p><strong>Tuesday\, November 6\, 2018 | 6-8pm | 590 Water St\, Prairie du Sac\, WI</strong></p>\n\n<p><strong>Early bird registration: $25 through Oct 23\, $30 after Oct 23</strong></p>\n\n<p>Join artist John Miller for an evening pondering human impulses towards color. He&rsquo\;ll discuss the science\, history\, and human conditions that lead us to choose certain colors for certain things\, as well as skills for choosing the best color for your desired outcomes. This applies to art certainly\, but also for painting a room in your house or sketching in a notebook.</p>\n\n<p>Students will work with basic art materials in our studio to explore these concepts in a hands-on approach. All materials provided</p>\n\n<p><strong>From the artist\, on color:&nbsp\;</strong></p>\n\n<p>&ldquo\;Color carries information that effects our emotions as well as our sense of space. Much of what we feel when we look at color relates to practical issues associated with human evolution. From both an emotional and environmental perspective blue is cool and red and yellow are warm or even hot. It&rsquo\;s difficult to escape these color associations. When viewing open space\, the color yellow is most quickly filtered out by the atmosphere over distance. Blues are least affected over distance and so far off mountains look blue to us and we rarely see yellow on their slopes or within the shapes of their silhouettes. In pictorial space it is therefore quite difficult to make yellow recede and blue advance unless this is done with some skill. Our sense of space and distance are shaped by our color sense.&rdquo\;</p>\n
LOCATION:River Arts on Water Gallery 590 Water St Prairie du Sac\, WI 53578
UID:e.1184.18175
SEQUENCE:3
DTSTAMP:20260424T022058Z
URL:http://members.saukprairie.com/events/details/art-presentation-working-with-color-an-evening-with-john-miller-18175
END:VEVENT

END:VCALENDAR
