BEGIN:VCALENDAR
VERSION:2.0
PRODID:-//ChamberMaster//Event Calendar 2.0//EN
METHOD:PUBLISH
X-PUBLISHED-TTL:P3D
REFRESH-INTERVAL:P3D
CALSCALE:GREGORIAN
BEGIN:VEVENT
DTSTART:20200130T233000Z
DTEND:20200131T013000Z
X-MICROSOFT-CDO-ALLDAYEVENT:FALSE
SUMMARY:Art Reception: 4th Biennial Wings & Water
DESCRIPTION:Juried by John Ribble and curated by River Arts Inc\, Wings & Water features 40+ award winning artists from around the nation each year.  This exhibit honors our prairies\, rivers\, and birds through a wide variety of media.
X-ALT-DESC;FMTTYPE=text/html:<span style="color:rgb(0\, 0\, 0)\; font-family:arial\,helvetica\,sans-serif">Juried by&nbsp\;</span>John Ribble<span style="color:rgb(0\, 0\, 0)\; font-family:arial\,helvetica\,sans-serif">&nbsp\;and curated by River Arts Inc\, Wings &amp\; Water features 40+ award winning artists from around the nation each year.&nbsp\; This exhibit honors our prairies\, rivers\, and birds through a wide variety of media.</span>
LOCATION:River Arts Center | 105 9th St\, Prairie du Sac\, WI 53578
UID:e.1184.23757
SEQUENCE:3
DTSTAMP:20260423T053752Z
URL:http://members.saukprairie.com/events/details/art-reception-4th-biennial-wings-water-23757
END:VEVENT

END:VCALENDAR
