BEGIN:VCALENDAR
VERSION:2.0
PRODID:-//ChamberMaster//Event Calendar 2.0//EN
METHOD:PUBLISH
X-PUBLISHED-TTL:P3D
REFRESH-INTERVAL:P3D
CALSCALE:GREGORIAN
BEGIN:VEVENT
DTSTART:20190912T223000Z
DTEND:20190913T003000Z
X-MICROSOFT-CDO-ALLDAYEVENT:FALSE
SUMMARY:Art Reception: Andy Warhol at the River Arts Center
DESCRIPTION:Featuring original artwork from revolutionary American artist Andy Warhol! This exhibit features eight original screen prints by Warhol\, including but not limited to works from his "Cowboys and Indians" series and "Reigning Queens" series.\n\nIn the lobby\, visitors can view and purchase work by contemporary pop artist Donald Topp of Madison\, WI.\n\nArtwork by Andy Warhol on loan from the University of Wisconsin   Green Bay\, donated by the Andy Warhol Foundation for the Visual Arts\, Inc.\n\nThis exhibit is supported in part by a grant from the Sauk County UW Extension\, Arts\, & Culture Committee and Wisconsin Arts Board with funds from the State of Wisconsin and the National Endowment for the Arts.\n\nAdditional support provided by Consumers Coop. Special thanks to Emma Hitzman\, Curator of Art\, UW-Green Bay.
X-ALT-DESC;FMTTYPE=text/html:<p>Featuring original artwork from revolutionary American artist Andy Warhol! This exhibit features eight original screen prints by Warhol\, including but not limited to works from his &ldquo\;Cowboys and Indians&rdquo\; series and &ldquo\;Reigning Queens&rdquo\; series.</p>\n\n<p>In the lobby\, visitors can view and purchase work by contemporary pop artist Donald Topp of Madison\, WI.</p>\n\n<p><em>Artwork by Andy Warhol on loan from the University of Wisconsin &ndash\; Green Bay\, donated by the Andy Warhol Foundation for the Visual Arts\, Inc.</em></p>\n\n<p><em>This exhibit is supported in part by a grant from the Sauk County UW Extension\, Arts\, &amp\; Culture Committee and Wisconsin Arts Board with funds from the State of Wisconsin and the National Endowment for the Arts.</em></p>\n\n<p>Additional support provided by Consumers Coop. Special thanks to Emma Hitzman\, Curator of Art\, UW-Green Bay.</p>\n
LOCATION:River Arts Center Gallery | 105 9th St\, Prairie du Sac\, WI 53578
UID:e.1184.23156
SEQUENCE:3
DTSTAMP:20260423T113633Z
URL:http://members.saukprairie.com/events/details/art-reception-andy-warhol-at-the-river-arts-center-23156
END:VEVENT

END:VCALENDAR
