BEGIN:VCALENDAR
VERSION:2.0
PRODID:-//ChamberMaster//Event Calendar 2.0//EN
METHOD:PUBLISH
X-PUBLISHED-TTL:P3D
REFRESH-INTERVAL:P3D
CALSCALE:GREGORIAN
BEGIN:VEVENT
DTSTART:20200123T233000Z
DTEND:20200124T013000Z
X-MICROSOFT-CDO-ALLDAYEVENT:FALSE
SUMMARY:Art Reception: Cynthia Quinn and Lisa Binkley
DESCRIPTION:Public Art Reception: Thursday\, January 23\, 2020 | 5:30-7:30pm \n\nRiver Arts on Water Gallery (590 Water St\, Prairie du Sac\, WI).\n\nSave 10% on art purchases made during the reception on January 23 from 5:30-7:30pm!\n\nRiver Arts is pleased to feature one of our most long-standing artists\, Cynthia Quinn\, as well as welcome guest artist Lisa Binkley. Both artists specialize in intricate beadwork and embroidery\, often on hand dyed fabric with elements inspired by the natural world. This exhibit will feature never-before-seen work by both Cynthia and Lisa. On view for a limited time only!\n\nJoin us for an evening on the river! At the reception\, the public can meet with the artists\, see their work\, and enjoy light hors d'oeuvres. Artist talk begins at 6pm.
X-ALT-DESC;FMTTYPE=text/html:<p><strong>Public Art Reception: Thursday\, January 23\, 2020 | 5:30-7:30pm&nbsp\;<br />\nRiver Arts on Water Gallery (590 Water St\, Prairie du Sac\, WI).</strong></p>\n\n<p>Save 10% on art purchases made during the reception on January 23 from 5:30-7:30pm!</p>\n\n<p>River Arts is pleased to feature one of our most long-standing artists\, Cynthia Quinn\, as well as welcome guest artist Lisa Binkley. Both artists specialize in intricate beadwork and embroidery\, often on hand dyed fabric with elements inspired by the natural world. This exhibit will feature never-before-seen work by both Cynthia and Lisa. On view for a limited time only!</p>\n\n<p>Join us for an evening on the river! At the reception\, the public can meet with the artists\, see their work\, and enjoy light hors d&rsquo\;oeuvres.&nbsp\;<strong>Artist talk begins at 6pm.</strong>&nbsp\;&nbsp\;</p>\n
LOCATION:River Arts on Water Gallery 590 Water St Prairie du Sac\, WI 53578
UID:e.1184.23981
SEQUENCE:3
DTSTAMP:20260423T054029Z
URL:http://members.saukprairie.com/events/details/art-reception-cynthia-quinn-and-lisa-binkley-23981
END:VEVENT

END:VCALENDAR
