BEGIN:VCALENDAR
VERSION:2.0
PRODID:-//ChamberMaster//Event Calendar 2.0//EN
METHOD:PUBLISH
X-PUBLISHED-TTL:P3D
REFRESH-INTERVAL:P3D
CALSCALE:GREGORIAN
BEGIN:VEVENT
DTSTART:20210716T223000Z
DTEND:20210717T003000Z
X-MICROSOFT-CDO-ALLDAYEVENT:FALSE
SUMMARY:Art Reception: John Pahlas and Ken Schneider
DESCRIPTION:Feature Dates: July 1   September 25\, 2021\n\nOn view at River Arts on Water Gallery (590 Water St\, Prairie du Sac\, WI) and online\n\nReception: Friday\, July 16 from 5:30-7:30pm*. Artist talk begins at 6pm. 10% off all artwork in the gallery during reception!\n\nRiver Arts is pleased to feature one of our artists\, John Pahlas\, as well as welcome guest artist Ken Schneider. John specializes in metal sculptures\, often using recycled materials and imbuing them with a level of emotion not often seen in metalwork. Ken's oil and watercolor paintings highlight the diverse natural beauty of our region\, with highly-detailed dappled light and delicate melting snow. Both artists share a deep connection to and respect for the environment. On view for a limited time only!
X-ALT-DESC;FMTTYPE=text/html:<p><strong>Feature Dates: July 1 &ndash\; September 25\, 2021</strong></p>\n\n<p><strong>On view at River Arts on Water Gallery (590 Water St\, Prairie du Sac\, WI) and online</strong></p>\n\n<p><strong>Reception: Friday\, July 16 from 5:30-7:30pm*. Artist talk begins at 6pm</strong>. 10% off all artwork in the gallery during reception!</p>\n\n<p>River Arts is pleased to feature one of our artists\, John Pahlas\, as well as welcome guest artist Ken Schneider. John specializes in metal sculptures\, often using recycled materials and imbuing them with a level of emotion not often seen in metalwork. Ken&rsquo\;s oil and watercolor paintings highlight the diverse natural beauty of our region\, with highly-detailed dappled light and delicate melting snow. Both artists share a deep connection to and respect for the environment. On view for a limited time only!</p>\n
LOCATION:River Arts on Water Gallery (590 Water St\, Prairie du Sac\, WI)
UID:e.1184.26688
SEQUENCE:3
DTSTAMP:20260422T021155Z
URL:http://members.saukprairie.com/events/details/art-reception-john-pahlas-and-ken-schneider-26688
END:VEVENT

END:VCALENDAR
