BEGIN:VCALENDAR
VERSION:2.0
PRODID:-//ChamberMaster//Event Calendar 2.0//EN
METHOD:PUBLISH
X-PUBLISHED-TTL:P3D
REFRESH-INTERVAL:P3D
CALSCALE:GREGORIAN
BEGIN:VEVENT
DTSTART:20170210T003000Z
DTEND:20170210T030000Z
X-MICROSOFT-CDO-ALLDAYEVENT:FALSE
SUMMARY:Art Shegonee - Eagles in Native American Culture
DESCRIPTION:An Educational Lecture Series Commemorating 30 Years of Bald Eagle Watching Days in Sauk Prairie. Wine & Cheese Reception - 6:30 p.m. Presentation - 7 p.m. Free & Open to the Public. Donations Welcome.
X-ALT-DESC;FMTTYPE=text/html:<span style="color: rgb(0\, 0\, 0)\; font-family: Arial\, sans-serif\; font-size: 12px\; white-space: pre-wrap\;">An Educational Lecture Series Commemorating 30 Years of Bald Eagle Watching Days in Sauk Prairie. Wine &amp\; Cheese Reception - 6:30 p.m. Presentation - 7 p.m. Free &amp\; Open to the Public. Donations Welcome.</span>
LOCATION:Tripp Heritage Museum\, 565 Water Street\, Prairie du Sac\, WI 5357
UID:e.1184.9932
SEQUENCE:3
DTSTAMP:20260425T110236Z
URL:http://members.saukprairie.com/events/details/art-shegonee-eagles-in-native-american-culture-9932
END:VEVENT

END:VCALENDAR
