BEGIN:VCALENDAR
VERSION:2.0
PRODID:-//ChamberMaster//Event Calendar 2.0//EN
METHOD:PUBLISH
X-PUBLISHED-TTL:P3D
REFRESH-INTERVAL:P3D
CALSCALE:GREGORIAN
BEGIN:VEVENT
DTSTART:20180309T160000Z
DTEND:20180309T170000Z
X-MICROSOFT-CDO-ALLDAYEVENT:FALSE
SUMMARY:Kids Bird Feeder Workshop
DESCRIPTION:Design and decorate a bird feeder made from a recycled milk carton! \n\n\n\nFor children ages 6 - 12. Registration required.\n\n\n\nSign up today at the check out counter or by calling the library at 608-643-8346.
X-ALT-DESC;FMTTYPE=text/html:<br />\nDesign and decorate a bird feeder made from a recycled milk carton!&nbsp\;<br />\n<br />\nFor children ages 6 - 12. Registration required.<br />\n<br />\nSign up today at the check out counter or by&nbsp\;calling the library at&nbsp\;608-643-8346.
LOCATION:
UID:e.1184.14662
SEQUENCE:3
DTSTAMP:20260424T143705Z
URL:http://members.saukprairie.com/events/details/art-studio-03-09-2018-14662
END:VEVENT

END:VCALENDAR
