BEGIN:VCALENDAR
VERSION:2.0
PRODID:-//ChamberMaster//Event Calendar 2.0//EN
METHOD:PUBLISH
X-PUBLISHED-TTL:P3D
REFRESH-INTERVAL:P3D
CALSCALE:GREGORIAN
BEGIN:VEVENT
DTSTART:20180727T180000Z
DTEND:20180727T190000Z
X-MICROSOFT-CDO-ALLDAYEVENT:FALSE
SUMMARY:Art Studio
DESCRIPTION:You bring the kids and we'll take care of the rest!\n\nEach art studio will have a different project to keep your imagination going. Drop-in to see what we're up to!
X-ALT-DESC;FMTTYPE=text/html:<p>You bring the kids and we&rsquo\;ll take care of the rest!</p>\n\n<p>Each art studio will have a different project to keep your imagination going. Drop-in to see what we&rsquo\;re up to!</p>\n
LOCATION:515 Water St Sauk City\, WI 53583
UID:e.1184.20459
SEQUENCE:3
DTSTAMP:20260424T082418Z
URL:http://members.saukprairie.com/events/details/art-studio-07-27-2018-20459
END:VEVENT

END:VCALENDAR
